BEGIN:VCALENDAR
VERSION:2.0
PRODID:spatie/icalendar-generator
DESCRIPTION:Events from Biserica Crestina Baptista Golgota Timisoara
X-WR-CALDESC:Events from Biserica Crestina Baptista Golgota Timisoara
REFRESH-INTERVAL;VALUE=DURATION:PT1440M
X-PUBLISHED-TTL:PT1440M
BEGIN:VTIMEZONE
TZID:Etc/GMT-2
BEGIN:STANDARD
DTSTART:20160514T000000Z
TZOFFSETFROM:+0200
TZOFFSETTO:+0200
END:STANDARD
END:VTIMEZONE
BEGIN:VTIMEZONE
TZID:UTC
BEGIN:STANDARD
DTSTART:20250723T123258Z
TZOFFSETFROM:+0000
TZOFFSETTO:+0000
END:STANDARD
END:VTIMEZONE
BEGIN:VEVENT
UID:301-290
DTSTAMP:20260419T123258Z
SUMMARY:Miercuri\, 8 februarie
LOCATION:
ORGANIZER;CN=admin:MAILTO:bisericagolgotatimisoara@gmail.com
DTSTART;TZID=Etc/GMT-2;VALUE=DATE:20170208
DTEND;TZID=Etc/GMT-2;VALUE=DATE:20170209
X-ALT-DESC;FMTTYPE=TEXT/HTML:19.00-20.30: Serviciu Divin
CATEGORIES:evenimente
URL;VALUE=URI:https://www.bisericagolgota.ro/mc-events/miercuri-8-februarie
 /?mc_id=301
END:VEVENT
END:VCALENDAR