BEGIN:VCALENDAR
VERSION:2.0
PRODID:spatie/icalendar-generator
DESCRIPTION:Events from Biserica Crestina Baptista Golgota Timisoara
X-WR-CALDESC:Events from Biserica Crestina Baptista Golgota Timisoara
REFRESH-INTERVAL;VALUE=DURATION:PT1440M
X-PUBLISHED-TTL:PT1440M
BEGIN:VTIMEZONE
TZID:Etc/GMT-2
BEGIN:STANDARD
DTSTART:20160319T000000Z
TZOFFSETFROM:+0200
TZOFFSETTO:+0200
END:STANDARD
END:VTIMEZONE
BEGIN:VTIMEZONE
TZID:UTC
BEGIN:STANDARD
DTSTART:20250727T082827Z
TZOFFSETFROM:+0000
TZOFFSETTO:+0000
END:STANDARD
END:VTIMEZONE
BEGIN:VEVENT
UID:297-278
DTSTAMP:20260423T082827Z
SUMMARY:Miercuri\, 14 decembrie
LOCATION:
ORGANIZER;CN=admin:MAILTO:bisericagolgotatimisoara@gmail.com
DTSTART;TZID=Etc/GMT-2;VALUE=DATE:20161214
DTEND;TZID=Etc/GMT-2;VALUE=DATE:20161215
X-ALT-DESC;FMTTYPE=TEXT/HTML:19.00-20.30: Serviciu Divin
CATEGORIES:evenimente
URL;VALUE=URI:https://www.bisericagolgota.ro/mc-events/miercuri-14-decembri
 e/?mc_id=297
END:VEVENT
END:VCALENDAR